BEGIN:VCALENDAR
VERSION:2.0
PRODID:-//wp-events-plugin.com//7.0.4//EN
BEGIN:VEVENT
UID:319@gaiety.in
DTSTART:20250711T043000Z
DTEND:20250711T113000Z
DTSTAMP:20250714T061808Z
URL:https://gaiety.in/app/events/the-state-commissioner-of-state-taxes-exc
 ise/
SUMMARY:The State Commissioner of State Taxes & Excise
DESCRIPTION:contact us: 94180-84241
ATTACH;FMTTYPE=image/jpeg:https://i0.wp.com/gaiety.in/app/wp-content/uploa
 ds/2025/03/mp_hall.jpg?fit=1320%2C800&ssl=1
CATEGORIES:Activity @ Multipurpose Hall
LOCATION:Multipurpose Hall\, Multipurpose Hall - Gaiety Heritage Cultural C
 omplex Shimla\, Shimla\, India
X-APPLE-STRUCTURED-LOCATION;VALUE=URI;X-ADDRESS=Multipurpose Hall - Gaiety 
 Heritage Cultural Complex Shimla\, Shimla\, India;X-APPLE-RADIUS=100;X-TIT
 LE=Multipurpose Hall:geo:0,0
END:VEVENT
END:VCALENDAR