BEGIN:VCALENDAR
VERSION:2.0
PRODID:-//wp-events-plugin.com//7.0.4//EN
BEGIN:VEVENT
UID:278@gaiety.in
DTSTART:20250719T113000Z
DTEND:20250719T140000Z
DTSTAMP:20250728T093927Z
URL:https://gaiety.in/app/events/theare-play-by-pracheen-kala-kendra/
SUMMARY:Theare Play by Pracheen Kala Kendra
DESCRIPTION:All are cordially invited
ATTACH;FMTTYPE=image/jpeg:https://i0.wp.com/gaiety.in/app/wp-content/uploa
 ds/2025/06/Invite-Raga-in-the-Hills-3.jpg?fit=2280%2C1520&ssl=1
CATEGORIES:Activity @ Old Theatre
LOCATION:Old Gothic Theater\, Old Gothic Theater-Gaiety Heritage Cultural C
 omplex Shimla\, Shimla\, India
X-APPLE-STRUCTURED-LOCATION;VALUE=URI;X-ADDRESS=Old Gothic Theater-Gaiety H
 eritage Cultural Complex Shimla\, Shimla\, India;X-APPLE-RADIUS=100;X-TITL
 E=Old Gothic Theater:geo:0,0
END:VEVENT
END:VCALENDAR