BEGIN:VCALENDAR
VERSION:2.0
PRODID:-//wp-events-plugin.com//7.0.4//EN
BEGIN:VEVENT
UID:141@gaiety.in
DTSTART;VALUE=DATE:20241129
DTEND;VALUE=DATE:20241202
DTSTAMP:20241218T062749Z
URL:https://gaiety.in/app/events/theatre-festival-by-stepco-nahan/
SUMMARY:Theatre Festival by Stepco Nahan
DESCRIPTION:All are cordially invited!\, Join us for an enchanting journey 
 through art and storytelling\, featuring performances by talented theatre 
 groups from across the nation.
ATTACH;FMTTYPE=image/jpeg:https://i0.wp.com/gaiety.in/app/wp-content/uploa
 ds/2024/10/WhatsApp-Image-2024-11-25-at-11.21.32-AM-e1732519143451.jpeg?fi
 t=917%2C717&ssl=1
CATEGORIES:Activity @ Old Theatre
LOCATION:Old Gothic Theater\, Old Gothic Theater-Gaiety Heritage Cultural C
 omplex Shimla\, Shimla\, India
X-APPLE-STRUCTURED-LOCATION;VALUE=URI;X-ADDRESS=Old Gothic Theater-Gaiety H
 eritage Cultural Complex Shimla\, Shimla\, India;X-APPLE-RADIUS=100;X-TITL
 E=Old Gothic Theater:geo:0,0
END:VEVENT
END:VCALENDAR