BEGIN:VCALENDAR
VERSION:2.0
PRODID:-//wp-events-plugin.com//7.0.4//EN
BEGIN:VEVENT
UID:282@gaiety.in
DTSTART:20250711T183000Z
DTEND:20250712T140000Z
DTSTAMP:20250714T061833Z
URL:https://gaiety.in/app/events/theatre-play-by-emotions-globe-art-theatr
 e/
SUMMARY:Theatre Play by Emotions Globe Art Theatre
DESCRIPTION:All are cordially invited.
ATTACH;FMTTYPE=image/jpeg:https://i0.wp.com/gaiety.in/app/wp-content/uploa
 ds/2025/06/WhatsApp-Image-2025-07-09-at-19.46.33_d88db956-e1752139792441.j
 pg?fit=883%2C1250&ssl=1
CATEGORIES:Activity @ Old Theatre
LOCATION:Old Gothic Theater\, Old Gothic Theater-Gaiety Heritage Cultural C
 omplex Shimla\, Shimla\, India
X-APPLE-STRUCTURED-LOCATION;VALUE=URI;X-ADDRESS=Old Gothic Theater-Gaiety H
 eritage Cultural Complex Shimla\, Shimla\, India;X-APPLE-RADIUS=100;X-TITL
 E=Old Gothic Theater:geo:0,0
END:VEVENT
END:VCALENDAR