BEGIN:VCALENDAR
VERSION:2.0
PRODID:-//wp-events-plugin.com//7.0.4//EN
BEGIN:VEVENT
UID:165@gaiety.in
DTSTART:20241207T113000Z
DTEND:20241208T130000Z
DTSTAMP:20241218T062717Z
URL:https://gaiety.in/app/events/theatre-play-by-shoonya-theatre-delhi/
SUMMARY:Theatre Play by Shoonya Theatre Delhi
DESCRIPTION:*You Are Cordially Invited*\n\nEvent: *Theatre Play*\nJoin us f
 or the *"Isadora Duncan’s “My Life"*\nPresented by: *Shoonya Theatre G
 roup*\n\nDramatization: *Dr. Rama Yadav*\nDesign &amp\; Direction: *Mayank
 *\n\nLight Design: *Atul Mishra*\nHindi Translation: *Yugank Dheer*\n\nIt 
 is with great pleasure Shoonya Theatre Group led by Dr. Rama Yadav in Asso
 ciation with Gaiety Theatre Shimla presents one of its classic creations.\
 n\nIsadora Duncan’s “My Life” based on autobiography of famous Ameri
 can dancer Isadora play has been performed at important national stages in
 cluding international theatre festival Bareilly and Prithivi theatre Mumba
 i this time we are excited to bring it to @gaietytheatreshimla\n\nDate: *0
 7 to 08 Dec\, 2024*\nTime: *05:30 PM to 06:30 PM*\nVenue: *Gothic Hall Gai
 ety Theatre Shimla*\n\nYour presence will greatly enhance the beauty of th
 is event.\nWe look forward to celebrating this experience together!\n\n*Wa
 rm Regards\,*\n*Gaiety Dramatic Society Shimla*\n*Contact: 0177 2650-173\,
  78763-12487*
ATTACH;FMTTYPE=image/jpeg:https://i0.wp.com/gaiety.in/app/wp-content/uploa
 ds/2024/11/WhatsApp-Image-2024-12-02-at-11.50.53_5ea1aea5-e1733135265701.j
 pg?fit=500%2C500&ssl=1
CATEGORIES:Activity @ Old Theatre
LOCATION:Old Gothic Theater\, Old Gothic Theater-Gaiety Heritage Cultural C
 omplex Shimla\, Shimla\, India
X-APPLE-STRUCTURED-LOCATION;VALUE=URI;X-ADDRESS=Old Gothic Theater-Gaiety H
 eritage Cultural Complex Shimla\, Shimla\, India;X-APPLE-RADIUS=100;X-TITL
 E=Old Gothic Theater:geo:0,0
END:VEVENT
END:VCALENDAR