BEGIN:VCALENDAR
VERSION:2.0
PRODID:-//wp-events-plugin.com//7.0.4//EN
BEGIN:VEVENT
UID:280@gaiety.in
DTSTART:20250726T110000Z
DTEND:20250726T133000Z
DTSTAMP:20250728T093946Z
URL:https://gaiety.in/app/events/theatre-play-by-shoonya-theatre-group/
SUMMARY:Theatre Play by Shoonya Theatre Group
DESCRIPTION:All are cordially invited
ATTACH;FMTTYPE=image/jpeg:https://i0.wp.com/gaiety.in/app/wp-content/uploa
 ds/2025/06/WhatsApp-Image-2025-07-15-at-12.59.19_c9851492.jpg?fit=1131%2C1
 250&ssl=1
CATEGORIES:Activity @ Old Theatre
LOCATION:Old Gothic Theater\, Old Gothic Theater-Gaiety Heritage Cultural C
 omplex Shimla\, Shimla\, India
X-APPLE-STRUCTURED-LOCATION;VALUE=URI;X-ADDRESS=Old Gothic Theater-Gaiety H
 eritage Cultural Complex Shimla\, Shimla\, India;X-APPLE-RADIUS=100;X-TITL
 E=Old Gothic Theater:geo:0,0
END:VEVENT
END:VCALENDAR