BEGIN:VCALENDAR
VERSION:2.0
PRODID:-//wp-events-plugin.com//7.0.4//EN
BEGIN:VEVENT
UID:356@gaiety.in
DTSTART:20251113T063000Z
DTEND:20251114T133000Z
DTSTAMP:20251127T125855Z
URL:https://gaiety.in/app/events/theatre-play-by-shorya-gate-theatre-shiml
 a-hp/
SUMMARY:Theatre Play by Shorya Gate Theatre Shimla HP
DESCRIPTION:
CATEGORIES:Activity @ Multipurpose Hall
LOCATION:Multipurpose Hall\, Multipurpose Hall - Gaiety Heritage Cultural C
 omplex Shimla\, Shimla\, India
X-APPLE-STRUCTURED-LOCATION;VALUE=URI;X-ADDRESS=Multipurpose Hall - Gaiety 
 Heritage Cultural Complex Shimla\, Shimla\, India;X-APPLE-RADIUS=100;X-TIT
 LE=Multipurpose Hall:geo:0,0
END:VEVENT
END:VCALENDAR