BEGIN:VCALENDAR
VERSION:2.0
PRODID:-//wp-events-plugin.com//7.0.4//EN
BEGIN:VEVENT
UID:348@gaiety.in
DTSTART:20250927T103000Z
DTEND:20250928T133000Z
DTSTAMP:20251006T102424Z
URL:https://gaiety.in/app/events/theatre-play-by-the-platform-shimla-hp/
SUMMARY:Theatre Play by The Platform Shimla HP
DESCRIPTION: DOUBLE TROUBLE – A Play You Can’t Miss! \n\nGet ready for 
 an evening full of chaos\, confusion\, and endless laughter!\nThe Platform
  Repertory proudly presents:\n\n DOUBLE TROUBLE \nA quirky stage play that
  blends drama\, wit\, and comedy in the most unexpected way. Watch a hilar
 ious mix of characters stumble into situations where everything goes wrong
  — twice!\n\n Dates: 27th & 28th September 2025\n Time: 05:30 PM\n Venue
 : Old Gothic Hall\, Gaiety Theatre\, Shimla\n Tickets: Rs. 100/- only\n\n 
 Directed by Ajay Sharma\n Conceptualized by Anil Walia
ATTACH;FMTTYPE=image/jpeg:https://i0.wp.com/gaiety.in/app/wp-content/uploa
 ds/2025/09/1-2.jpg?fit=720%2C723&ssl=1
CATEGORIES:Activity @ Old Theatre
LOCATION:Old Gothic Theater\, Old Gothic Theater-Gaiety Heritage Cultural C
 omplex Shimla\, Shimla\, India
X-APPLE-STRUCTURED-LOCATION;VALUE=URI;X-ADDRESS=Old Gothic Theater-Gaiety H
 eritage Cultural Complex Shimla\, Shimla\, India;X-APPLE-RADIUS=100;X-TITL
 E=Old Gothic Theater:geo:0,0
END:VEVENT
END:VCALENDAR