BEGIN:VCALENDAR
VERSION:2.0
PRODID:-//wp-events-plugin.com//7.0.4//EN
BEGIN:VEVENT
UID:236@gaiety.in
DTSTART:20250304T053000Z
DTEND:20250304T083000Z
DTSTAMP:20250319T072646Z
URL:https://gaiety.in/app/events/theatre-play-by-the-platform-society-2/
SUMMARY:Theatre Play by The Platform Society
DESCRIPTION:Special Invitation: Theatre Discussion in Memory of "Deven Josh
 i Ji" 
ATTACH;FMTTYPE=image/jpeg:https://i0.wp.com/gaiety.in/app/wp-content/uploa
 ds/2025/02/WhatsApp-Image-2025-02-25-at-2.21.50-PM-e1740650115795.jpeg?fit
 =600%2C429&ssl=1
CATEGORIES:Activity @ Conference Hall
LOCATION:Conference Hall\, Conference Hall - Gaiety Heritage Cultural Compl
 ex\, Shimla\, India
X-APPLE-STRUCTURED-LOCATION;VALUE=URI;X-ADDRESS=Conference Hall - Gaiety He
 ritage Cultural Complex\, Shimla\, India;X-APPLE-RADIUS=100;X-TITLE=Confer
 ence Hall:geo:0,0
END:VEVENT
END:VCALENDAR