BEGIN:VCALENDAR
VERSION:2.0
PRODID:-//wp-events-plugin.com//7.0.4//EN
BEGIN:VEVENT
UID:234@gaiety.in
DTSTART:20250304T000000Z
DTEND:20250306T013000Z
DTSTAMP:20250319T072636Z
URL:https://gaiety.in/app/events/theatre-play-by-the-platform-society/
SUMMARY:Theatre Play by The Platform Society
DESCRIPTION:🎭 Invitation to the 3-Day Shimla Theatre Festival in Memory 
 of Deven Joshi Ji 🎭
ATTACH;FMTTYPE=image/jpeg:https://i0.wp.com/gaiety.in/app/wp-content/uploa
 ds/2025/02/WhatsApp-Image-2025-02-25-at-2.12.41-PM-2-1.jpeg?fit=651%2C458&
 ssl=1
CATEGORIES:Activity @ Old Theatre
LOCATION:Old Gothic Theater\, Old Gothic Theater-Gaiety Heritage Cultural C
 omplex Shimla\, Shimla\, India
X-APPLE-STRUCTURED-LOCATION;VALUE=URI;X-ADDRESS=Old Gothic Theater-Gaiety H
 eritage Cultural Complex Shimla\, Shimla\, India;X-APPLE-RADIUS=100;X-TITL
 E=Old Gothic Theater:geo:0,0
END:VEVENT
END:VCALENDAR