BEGIN:VCALENDAR
VERSION:2.0
PRODID:-//wp-events-plugin.com//7.0.4//EN
BEGIN:VEVENT
UID:385@gaiety.in
DTSTART:20251110T120000Z
DTEND:20251110T140000Z
DTSTAMP:20251127T125818Z
URL:https://gaiety.in/app/events/theatre-play-by-theatre-lab-chandigarh/
SUMMARY:Theatre Play By Theatre Lab Chandigarh
DESCRIPTION:🎭THEATRE LAB CHANDIGARH\npresents\n\n✨“भ्रमद
 ोष” (Bhramdosh)✨\nA powerful Hindi adaptation of the classic Fren
 ch play “The Misunderstanding” written by Albert Camus — a timeless
  story that delves deep into human emotions\, moral dilemmas\, and tragic 
 irony.\n\n🎬 Directed by: Umesh Kant\n📅 Date: 10th November\, 2025\
 n🕠 Time: 5:30 PM\n📍 Venue: Gaiety Theatre\, Shimla\n🎟️ Ticket
 s: ₹100/- (Available at the venue counter)
ATTACH;FMTTYPE=image/jpeg:https://i0.wp.com/gaiety.in/app/wp-content/uploa
 ds/2025/11/1.jpg?fit=853%2C1280&ssl=1
CATEGORIES:Activity @ Old Theatre
LOCATION:Old Gothic Theater\, Old Gothic Theater-Gaiety Heritage Cultural C
 omplex Shimla\, Shimla\, India
X-APPLE-STRUCTURED-LOCATION;VALUE=URI;X-ADDRESS=Old Gothic Theater-Gaiety H
 eritage Cultural Complex Shimla\, Shimla\, India;X-APPLE-RADIUS=100;X-TITL
 E=Old Gothic Theater:geo:0,0
END:VEVENT
END:VCALENDAR