BEGIN:VCALENDAR
VERSION:2.0
PRODID:-//wp-events-plugin.com//7.0.4//EN
BEGIN:VEVENT
UID:145@gaiety.in
DTSTART:20241018T120000Z
DTEND:20241019T130000Z
DTSTAMP:20241218T063134Z
URL:https://gaiety.in/app/events/theatre-play-ek-ajeev/
SUMMARY:Theatre Play "Ek Ajeev Dastaan" by Chandernahan Rangmanch Roharu
DESCRIPTION:You Are Cordially Invited\nEvent: Theatre Play\nJoin us for the
  "Ek Ajeeb Dastaan!"\nPresented by: Chandernahan Rangmanch Rohru\n\n\nDate
 : 18 Oct to 19 Oct\, 2024\nTime: 05:30 PM to 06:30 PM\nVenue: Gothic Hall 
 Gaiety Theatre Shimla\n\n\nYour presence will greatly enhance the beauty o
 f this event.\nWe look forward to celebrating this experience together!\n\
 nWarm regards\,\nGaiety Dramatic Society Shimla\nContact: 0177 2650-173\, 
 78763-12487\n\nWe Need Your Support!\n\nIf you enjoy our content\, please 
 take a moment to like\, share\, comment\, and subscribe. Your engagement h
 elps us grow and reach more people. Thank you for being a part of our comm
 unity!
ATTACH;FMTTYPE=image/jpeg:https://i0.wp.com/gaiety.in/app/wp-content/uploa
 ds/2024/10/WhatsApp-Image-2024-10-18-at-3.38.20-PM-1-e1729246354241.jpeg?f
 it=585%2C568&ssl=1
CATEGORIES:Activity @ Old Theatre
LOCATION:Old Gothic Theater\, Old Gothic Theater-Gaiety Heritage Cultural C
 omplex Shimla\, Shimla\, India
X-APPLE-STRUCTURED-LOCATION;VALUE=URI;X-ADDRESS=Old Gothic Theater-Gaiety H
 eritage Cultural Complex Shimla\, Shimla\, India;X-APPLE-RADIUS=100;X-TITL
 E=Old Gothic Theater:geo:0,0
END:VEVENT
END:VCALENDAR