BEGIN:VCALENDAR
VERSION:2.0
PRODID:-//wp-events-plugin.com//7.0.4//EN
BEGIN:VEVENT
UID:406@gaiety.in
DTSTART:20260110T093000Z
DTEND:20260110T123000Z
DTSTAMP:20260212T060141Z
URL:https://gaiety.in/app/events/thecollective-shimla/
SUMMARY:thecollective Shimla
DESCRIPTION:You Are Cordially Invited\nJoin us for “The Collective – Sh
 imla”\, a gathering of creativity\, culture\, and artistic harmony.
ATTACH;FMTTYPE=image/jpeg:https://i0.wp.com/gaiety.in/app/wp-content/uploa
 ds/2025/12/61hLdJE3evL._AC_UY1100_.jpg?fit=1101%2C1100&ssl=1
CATEGORIES:Activity @ Old Theatre
LOCATION:Old Gothic Theater\, Old Gothic Theater-Gaiety Heritage Cultural C
 omplex Shimla\, Shimla\, India
X-APPLE-STRUCTURED-LOCATION;VALUE=URI;X-ADDRESS=Old Gothic Theater-Gaiety H
 eritage Cultural Complex Shimla\, Shimla\, India;X-APPLE-RADIUS=100;X-TITL
 E=Old Gothic Theater:geo:0,0
END:VEVENT
END:VCALENDAR