BEGIN:VCALENDAR
VERSION:2.0
PRODID:-//wp-events-plugin.com//7.0.4//EN
BEGIN:VEVENT
UID:337@gaiety.in
DTSTART:20250925T223000Z
DTEND:20250926T133000Z
DTSTAMP:20251006T102321Z
URL:https://gaiety.in/app/events/three-art-club/
SUMMARY:Theatre Play by Three Art Club
DESCRIPTION: A Celebration of Life \nStep into the magic of cinema as we ma
 rk the 102nd birthday of Dev Anand\, hosted by his niece Sohaila Kapur\, a
  Katyayani and Three Arts Club Production.\n Gothic Hall\, Gaiety Theatre\
 , Shimla\n 26th September\n Tickets: Brews & Books Café\, near Tourism Li
 ft\, Mall Road\, Shimla (Limited Box Seats – hurry!)\n\nMedia Partners -
  Keekli An Ode To Innocence & HimachalTonite
ATTACH;FMTTYPE=image/jpeg:https://i0.wp.com/gaiety.in/app/wp-content/uploa
 ds/2025/08/WhatsApp-Image-2025-09-04-at-14.06.43_eba29f6a.jpg?fit=905%2C12
 80&ssl=1
CATEGORIES:Activity @ Old Theatre
LOCATION:Old Gothic Theater\, Old Gothic Theater-Gaiety Heritage Cultural C
 omplex Shimla\, Shimla\, India
X-APPLE-STRUCTURED-LOCATION;VALUE=URI;X-ADDRESS=Old Gothic Theater-Gaiety H
 eritage Cultural Complex Shimla\, Shimla\, India;X-APPLE-RADIUS=100;X-TITL
 E=Old Gothic Theater:geo:0,0
END:VEVENT
END:VCALENDAR