BEGIN:VCALENDAR
VERSION:2.0
PRODID:-//wp-events-plugin.com//7.0.4//EN
BEGIN:VEVENT
UID:70@gaiety.in
DTSTART:20240728T083000Z
DTEND:20240728T113000Z
DTSTAMP:20240808T090938Z
URL:https://gaiety.in/app/events/vichar-goshti-by-keekli-charitable-trust/
SUMMARY:Vichar Goshti by Keekli Charitable Trust
DESCRIPTION:धनपत राय श्रीवास्तव ( 31 ज
 ुलाई 1880 – 8 अक्टूबर 1936) जो प्रेम
 चंद नाम से जाने जाते हैं\, वो 
 हिन्दी और उर्दू के सर्वाधिक 
 लोकप्रिय उपन्यासकार\, कहानी
 कार एवं विचारक थे I
ATTACH;FMTTYPE=image/jpeg:https://i0.wp.com/gaiety.in/app/wp-content/uploa
 ds/2024/07/1-6-e1721720170734.jpeg?fit=776%2C816&ssl=1
CATEGORIES:Activity @ Conference Hall
LOCATION:Conference Hall\, Conference Hall - Gaiety Heritage Cultural Compl
 ex\, Shimla\, India
X-APPLE-STRUCTURED-LOCATION;VALUE=URI;X-ADDRESS=Conference Hall - Gaiety He
 ritage Cultural Complex\, Shimla\, India;X-APPLE-RADIUS=100;X-TITLE=Confer
 ence Hall:geo:0,0
END:VEVENT
END:VCALENDAR