BEGIN:VCALENDAR
VERSION:2.0
PRODID:-//wp-events-plugin.com//7.0.4//EN
BEGIN:VEVENT
UID:249@gaiety.in
DTSTART:20250712T043000Z
DTEND:20250713T120000Z
DTSTAMP:20250714T061821Z
URL:https://gaiety.in/app/events/wff-himachal/
SUMMARY:WFF Himachal
DESCRIPTION:🏋️‍♂️💥 WORLD FITNESS FEDERATION INDIA 💥🏋️
 ‍♀️
ATTACH;FMTTYPE=image/jpeg:https://i0.wp.com/gaiety.in/app/wp-content/uploa
 ds/2025/03/2-Copy-1.jpg?fit=1024%2C940&ssl=1
CATEGORIES:Activity @ Multipurpose Hall
LOCATION:Multipurpose Hall\, Multipurpose Hall - Gaiety Heritage Cultural C
 omplex Shimla\, Shimla\, India
X-APPLE-STRUCTURED-LOCATION;VALUE=URI;X-ADDRESS=Multipurpose Hall - Gaiety 
 Heritage Cultural Complex Shimla\, Shimla\, India;X-APPLE-RADIUS=100;X-TIT
 LE=Multipurpose Hall:geo:0,0
END:VEVENT
END:VCALENDAR