BEGIN:VCALENDAR
VERSION:2.0
PRODID:-//wp-events-plugin.com//7.0.4//EN
BEGIN:VEVENT
UID:375@gaiety.in
DTSTART:20251019T183000Z
DTEND:20251021T181500Z
DTSTAMP:20251110T055210Z
URL:https://gaiety.in/app/events/wishing-everyone-a-very-happy-and-prosper
 ous-diwali/
SUMMARY:Wishing everyone a very Happy and Prosperous Diwali!
DESCRIPTION:Wishing everyone a very Happy and Prosperous Diwali!
ATTACH;FMTTYPE=image/jpeg:https://i0.wp.com/gaiety.in/app/wp-content/uploa
 ds/2025/10/happy-diwali-greeting-card-illuminated-diya-stock-photo-showing
 -oil-lamp-panti-text-101309245.webp?fit=768%2C513&ssl=1
LOCATION:Old Gothic Theater\, Old Gothic Theater-Gaiety Heritage Cultural C
 omplex Shimla\, Shimla\, India
X-APPLE-STRUCTURED-LOCATION;VALUE=URI;X-ADDRESS=Old Gothic Theater-Gaiety H
 eritage Cultural Complex Shimla\, Shimla\, India;X-APPLE-RADIUS=100;X-TITL
 E=Old Gothic Theater:geo:0,0
END:VEVENT
END:VCALENDAR