BEGIN:VCALENDAR
VERSION:2.0
PRODID:-//wp-events-plugin.com//7.0.4//EN
BEGIN:VEVENT
UID:443@gaiety.in
DTSTART:20260324T043000Z
DTEND:20260324T113000Z
DTSTAMP:20260404T084229Z
URL:https://gaiety.in/app/events/world-tb-day-awareness-program-in-shimla-
 by-indira-gandhi-medical-college/
SUMMARY:World TB Day Awareness Program in Shimla by Indira Gandhi Medical C
 ollege
DESCRIPTION:All are cordially invited\, 📢 World TB Day Awareness Program
  in Shimla.
ATTACH;FMTTYPE=image/jpeg:https://i0.wp.com/gaiety.in/app/wp-content/uploa
 ds/2025/03/images.jpg?fit=228%2C221&ssl=1
CATEGORIES:Activity @ Multipurpose Hall
LOCATION:Multipurpose Hall\, Multipurpose Hall - Gaiety Heritage Cultural C
 omplex Shimla\, Shimla\, India
X-APPLE-STRUCTURED-LOCATION;VALUE=URI;X-ADDRESS=Multipurpose Hall - Gaiety 
 Heritage Cultural Complex Shimla\, Shimla\, India;X-APPLE-RADIUS=100;X-TIT
 LE=Multipurpose Hall:geo:0,0
END:VEVENT
END:VCALENDAR